BEGIN:VCALENDAR
VERSION:2.0
PRODID:-//Outer Cape Community Solutions - ECPv6.15.18//NONSGML v1.0//EN
CALSCALE:GREGORIAN
METHOD:PUBLISH
X-WR-CALNAME:Outer Cape Community Solutions
X-ORIGINAL-URL:https://outercapecommunitysolutions.org
X-WR-CALDESC:Events for Outer Cape Community Solutions
REFRESH-INTERVAL;VALUE=DURATION:PT1H
X-Robots-Tag:noindex
X-PUBLISHED-TTL:PT1H
BEGIN:VTIMEZONE
TZID:America/New_York
BEGIN:DAYLIGHT
TZOFFSETFROM:-0500
TZOFFSETTO:-0400
TZNAME:EDT
DTSTART:20220313T070000
END:DAYLIGHT
BEGIN:STANDARD
TZOFFSETFROM:-0400
TZOFFSETTO:-0500
TZNAME:EST
DTSTART:20221106T060000
END:STANDARD
BEGIN:DAYLIGHT
TZOFFSETFROM:-0500
TZOFFSETTO:-0400
TZNAME:EDT
DTSTART:20230312T070000
END:DAYLIGHT
BEGIN:STANDARD
TZOFFSETFROM:-0400
TZOFFSETTO:-0500
TZNAME:EST
DTSTART:20231105T060000
END:STANDARD
BEGIN:DAYLIGHT
TZOFFSETFROM:-0500
TZOFFSETTO:-0400
TZNAME:EDT
DTSTART:20240310T070000
END:DAYLIGHT
BEGIN:STANDARD
TZOFFSETFROM:-0400
TZOFFSETTO:-0500
TZNAME:EST
DTSTART:20241103T060000
END:STANDARD
END:VTIMEZONE
BEGIN:VEVENT
DTSTART;TZID=America/New_York:20230615T093000
DTEND;TZID=America/New_York:20230615T140000
DTSTAMP:20260421T004202
CREATED:20230418T141425Z
LAST-MODIFIED:20230522T142246Z
UID:10000004-1686821400-1686837600@outercapecommunitysolutions.org
SUMMARY:Outer Cape Town Hall on Public Health
DESCRIPTION:A half-day devoted to understanding the Outer Cape’s unique healthcare needs! Hear from officials at the State Office of Rural Health\, dive into facilitated conversations addressing root causes of health inequities\, learn about some creative solutions specific to our towns\, and network with community partners while you enjoy food and drink at The Four Points Sheraton in Eastham! \nFind more info and register here. \nBreakfast & resource table set up at 9 am; Welcome remarks at 9:30 am
URL:https://outercapecommunitysolutions.org/event/outer-cape-town-hall-on-public-health/
LOCATION:Four Points by Sheraton\, Eastham\, MA
CATEGORIES:Network
END:VEVENT
END:VCALENDAR